BEGIN:VCALENDAR
X-WR-TIMEZONE:Europe/Berlin
X-WR-CALNAME:rbb-Kalender
VERSION:2.0
METHOD:PUBLISH
CALSCALE:GREGORIAN
PRODID:rbb-CMS DAY
BEGIN:VEVENT
CLASS:PUBLIC
URL:http://www.rbb-online.de/content/rbb/rbb/zibb/archiv/20140404_1830/alphorn-Treffen_in_flecken_zechlin.html
DTEND:20140404T192500
DTSTART:20140404T183000
UID:/content/rbb/rbb/zibb/archiv/20140404_1830/alphorn-Treffen_in_flecken_zechlin
DTSTAMP:20140406T230250
DESCRIPTION:Am Schwarzen See in Flecken Zechlin treffen sich ab Freitag rund ein Dutzend Alphornbläser aus Berlin, Brandenburg und Thüringen. Sie proben für ein kleines Kirchenkonzert und nutzen die besondere Akustik des Schwarzen Sees.\n\n\n
SUMMARY:Alphorn-Treffen in Flecken Zechlin
END:VEVENT
END:VCALENDAR
