BEGIN:VCALENDAR
X-WR-TIMEZONE:Europe/Berlin
X-WR-CALNAME:rbb-Kalender
VERSION:2.0
METHOD:PUBLISH
CALSCALE:GREGORIAN
PRODID:rbb-CMS DAY
BEGIN:VEVENT
CLASS:PUBLIC
URL:http://www.rbb-online.de/content/rbb/rbb/zibb/archiv/20140407_1830/musicpool.html
DTEND:20140407T192500
DTSTART:20140407T183000
UID:/content/rbb/rbb/zibb/archiv/20140407_1830/musicpool
DTSTAMP:20140408T122623
DESCRIPTION:Seed, Tim Bendzko und Wir sind Helden - Sie haben es in der Musikszene geschafft und mehr als 2000 Bands versuchen es ihnen gleich zu tun. Wenn aus dem Traum vom ertragreichen Musikerleben etwas werden soll, braucht es allerdings mehr als Talent. Berlin hat jetzt ein Sprungbrett für Talente gebaut - den Music Pool Berlin.\n\n\n
SUMMARY:Sprungbrett für Musik-Talente
END:VEVENT
END:VCALENDAR
