BEGIN:VCALENDAR
X-WR-TIMEZONE:Europe/Berlin
X-WR-CALNAME:rbb-Kalender
VERSION:2.0
METHOD:PUBLISH
CALSCALE:GREGORIAN
PRODID:rbb-CMS DAY
BEGIN:VEVENT
CLASS:PUBLIC
URL:http://www.rbb-online.de/content/rbb/rbb/zibb/archiv/20140408_1830/flaschenpost.html
DTEND:20140408T192500
DTSTART:20140408T183000
UID:/content/rbb/rbb/zibb/archiv/20140408_1830/flaschenpost
DTSTAMP:20140409T022058
DESCRIPTION:Konrad Fischer arbeitet ein halbes Jahrhundert als Fischer. Jetzt machte er einen besonderen Fang: eine 101 Jahre alte Flaschenpost. Absender war ein Berliner. Die Enkelin des Absenders, Angela Erdmann, nimmt diese in Empfang.\n\n\n
SUMMARY:Flaschenpost kommt nach 101 Jahren an
END:VEVENT
END:VCALENDAR
