BEGIN:VCALENDAR
X-WR-TIMEZONE:Europe/Berlin
X-WR-CALNAME:rbb-Kalender
VERSION:2.0
METHOD:PUBLISH
CALSCALE:GREGORIAN
PRODID:rbb-CMS DAY
BEGIN:VEVENT
CLASS:PUBLIC
URL:http://www.rbb-online.de/content/rbb/rbb/zibb/archiv/20_februar/familiensache-kohlehandel.html
DTEND:20140220T192500
DTSTART:20140220T183000
UID:/content/rbb/rbb/zibb/archiv/20_februar/familiensache-kohlehandel
DTSTAMP:20140406T233046
DESCRIPTION:Eines Tages werden wir nur noch dank Sonne, Wind und Biomasse heizen, noch aber brauchen wir Kohle und Kohlenhändler. zibb stellt einen Mann vor, der schon in dritter Generation Kohlenhändler ist.\n\n\n
SUMMARY:Familiensache Kohlehandel
END:VEVENT
END:VCALENDAR
