BEGIN:VCALENDAR
X-WR-TIMEZONE:Europe/Berlin
X-WR-CALNAME:rbb-Kalender
VERSION:2.0
METHOD:PUBLISH
CALSCALE:GREGORIAN
PRODID:rbb-CMS DAY
BEGIN:VEVENT
CLASS:PUBLIC
URL:http://www.rbb-online.de/content/rbb/rbb/zibb/archiv/20_februar/kudamm-autofrei.html
DTEND:20140220T192500
DTSTART:20140220T183000
UID:/content/rbb/rbb/zibb/archiv/20_februar/kudamm-autofrei
DTSTAMP:20140406T233133
DESCRIPTION:Grüne Oase Kudamm? Die Grünen wollen den Kurfürstendamm tageweise von Autos befreien, Piraten und CDU unterstützen das. Wäre das eine Attraktion für die Innenstadt? Oder nur unsinnige Symbolik? Ein Meinungsstreit.\n\n\n
SUMMARY:Kudamm bald autofrei?
END:VEVENT
END:VCALENDAR
