BEGIN:VCALENDAR
X-WR-TIMEZONE:Europe/Berlin
X-WR-CALNAME:rbb-Kalender
VERSION:2.0
METHOD:PUBLISH
CALSCALE:GREGORIAN
PRODID:rbb-CMS DAY
BEGIN:VEVENT
CLASS:PUBLIC
URL:http://www.rbb-online.de/content/rbb/rbb/zibb/archiv/20_februar/volle-kanne-bei-elstal.html
DTEND:20140220T192500
DTSTART:20140220T183000
UID:/content/rbb/rbb/zibb/archiv/20_februar/volle-kanne-bei-elstal
DTSTAMP:20140406T233035
DESCRIPTION:Am 1. Mai öffnet "Karls Familienfreizeitpark" an der B5 bei Elstal. Schon jetzt wirbt er um die Gunst der Havelländer: mit einem Weltrekordversuch. Es geht darum, möglichst mehr als 28.000 Kaffeekannen zusammen zu bekommen.\n\n\n
SUMMARY:Volle Kanne in Elstal  
END:VEVENT
END:VCALENDAR
