BEGIN:VCALENDAR
X-WR-TIMEZONE:Europe/Berlin
X-WR-CALNAME:rbb-Kalender
VERSION:2.0
METHOD:PUBLISH
CALSCALE:GREGORIAN
PRODID:rbb-CMS DAY
BEGIN:VEVENT
CLASS:PUBLIC
URL:http://www.rbb-online.de/content/rbb/rbb/zibb/guse/guse-eier-weiss-braun.html
DTEND:20131104T183000
DTSTART:20131104T183000
UID:/content/rbb/rbb/zibb/guse/guse-eier-weiss-braun
DTSTAMP:20140405T233058
DESCRIPTION:
SUMMARY:Warum sind Eier weiß und braun?
END:VEVENT
END:VCALENDAR
