BEGIN:VCALENDAR
X-WR-TIMEZONE:Europe/Berlin
X-WR-CALNAME:rbb-Kalender
VERSION:2.0
METHOD:PUBLISH
CALSCALE:GREGORIAN
PRODID:rbb-CMS DAY
BEGIN:VEVENT
CLASS:PUBLIC
URL:http://www.rbb-online.de/content/rbb/rbb/zibb/guse/guse-frauen-schmerzen.html
DTEND:20130521T183000
DTSTART:20130521T183000
UID:/content/rbb/rbb/zibb/guse/guse-frauen-schmerzen
DTSTAMP:20140405T232810
DESCRIPTION:Beitrag von Chris Guse\n
SUMMARY:Können Frauen mehr Schmerzen aushalten?
END:VEVENT
END:VCALENDAR
