BEGIN:VCALENDAR
X-WR-TIMEZONE:Europe/Berlin
X-WR-CALNAME:rbb-Kalender
VERSION:2.0
METHOD:PUBLISH
CALSCALE:GREGORIAN
PRODID:rbb-CMS DAY
BEGIN:VEVENT
CLASS:PUBLIC
URL:http://www.rbb-online.de/content/rbb/rbb/zibb/guse/guse-haare-grau.html
DTEND:20140217T192500
DTSTART:20140217T183000
UID:/content/rbb/rbb/zibb/guse/guse-haare-grau
DTSTAMP:20140405T233212
DESCRIPTION:Guse hat sich das Haarwachstum des älter werdenden Menschen unter der Kopfhaut mal ganz genau angeschaut und einige lustige Kerlchen kennengelernt: Die Melanozyten.\n\nBeitrag Chris Guse\n\n\n
SUMMARY:Warum werden unsere Haare grau?
END:VEVENT
END:VCALENDAR
