BEGIN:VCALENDAR
X-WR-TIMEZONE:Europe/Berlin
X-WR-CALNAME:rbb-Kalender
VERSION:2.0
METHOD:PUBLISH
CALSCALE:GREGORIAN
PRODID:rbb-CMS DAY
BEGIN:VEVENT
CLASS:PUBLIC
URL:http://www.rbb-online.de/content/rbb/rbb/zibb/guse/guse-heiser.html
DTEND:20131021T183000
DTSTART:20131021T183000
UID:/content/rbb/rbb/zibb/guse/guse-heiser
DTSTAMP:20140405T232826
DESCRIPTION:
SUMMARY:Warum werden wir heiser?
END:VEVENT
END:VCALENDAR
