BEGIN:VCALENDAR
X-WR-TIMEZONE:Europe/Berlin
X-WR-CALNAME:rbb-Kalender
VERSION:2.0
METHOD:PUBLISH
CALSCALE:GREGORIAN
PRODID:rbb-CMS DAY
BEGIN:VEVENT
CLASS:PUBLIC
URL:http://www.rbb-online.de/content/rbb/rbb/zibb/guse/guse-muesli-teile-oben.html
DTEND:20130812T183000
DTSTART:20130812T183000
UID:/content/rbb/rbb/zibb/guse/guse-muesli-teile-oben
DTSTAMP:20140405T233332
DESCRIPTION:
SUMMARY:Warum liegen beim Müsli die großen Teile immer oben?
END:VEVENT
END:VCALENDAR
