BEGIN:VCALENDAR
X-WR-TIMEZONE:Europe/Berlin
X-WR-CALNAME:rbb-Kalender
VERSION:2.0
METHOD:PUBLISH
CALSCALE:GREGORIAN
PRODID:rbb-CMS DAY
BEGIN:VEVENT
CLASS:PUBLIC
URL:http://www.rbb-online.de/content/rbb/rbb/zibb/guse/guse-ohrwurm.html
DTEND:20130701T183000
DTSTART:20130701T183000
UID:/content/rbb/rbb/zibb/guse/guse-ohrwurm
DTSTAMP:20140405T233115
DESCRIPTION:
SUMMARY:Woher kommt der Ohrwurm?
END:VEVENT
END:VCALENDAR
