BEGIN:VCALENDAR
X-WR-TIMEZONE:Europe/Berlin
X-WR-CALNAME:rbb-Kalender
VERSION:2.0
METHOD:PUBLISH
CALSCALE:GREGORIAN
PRODID:rbb-CMS DAY
BEGIN:VEVENT
CLASS:PUBLIC
URL:http://www.rbb-online.de/content/rbb/rbb/zibb/guse/guse-weiss-alles.html
DTEND:20140331T192500
DTSTART:20140331T183000
UID:/content/rbb/rbb/zibb/guse/guse-weiss-alles
DTSTAMP:20140405T012350
DESCRIPTION:Eine Frau ist schon ein Mysterium. Zwei sind noch schwerer zu verstehen. Warum zum Beispiel müssen Frauen immer zu zweit aufs Klo gehen?\n\nBeitrag von Chris Guse\n
SUMMARY:Guse weiß alles
END:VEVENT
END:VCALENDAR
