BEGIN:VCALENDAR
X-WR-TIMEZONE:Europe/Berlin
X-WR-CALNAME:rbb-Kalender
VERSION:2.0
METHOD:PUBLISH
CALSCALE:GREGORIAN
PRODID:rbb-CMS DAY
BEGIN:VEVENT
CLASS:PUBLIC
URL:http://www.rbb-online.de/content/rbb/rbb/zibb/guse/guse-wolken-grau.html
DTEND:20131007T183000
DTSTART:20131007T183000
UID:/content/rbb/rbb/zibb/guse/guse-wolken-grau
DTSTAMP:20140405T233055
DESCRIPTION:
SUMMARY:Warum sind Wolken grau?
END:VEVENT
END:VCALENDAR
