BEGIN:VCALENDAR
X-WR-TIMEZONE:Europe/Berlin
X-WR-CALNAME:rbb-Kalender
VERSION:2.0
METHOD:PUBLISH
CALSCALE:GREGORIAN
PRODID:rbb-CMS DAY
BEGIN:VEVENT
CLASS:PUBLIC
URL:http://www.rbb-online.de/content/rbb/rbb/zibb/guse/warum-knirscht-schnee-chris-guse.html
DTEND:20131209T192500
DTSTART:20131209T183000
UID:/content/rbb/rbb/zibb/guse/warum-knirscht-schnee-chris-guse
DTSTAMP:20140405T233442
DESCRIPTION:Schnee - kann man mögen, muss man aber nicht. Wissenschaftlich betrachtet ist er auf jeden Fall sehr interessant. Warum zum Beispiel knirscht er, wenn man darüber läuft?\n\nChris Guse erklärt uns das Phänomen.\n\n\n
SUMMARY:Warum knirscht Schnee?
END:VEVENT
END:VCALENDAR
