BEGIN:VCALENDAR
X-WR-TIMEZONE:Europe/Berlin
X-WR-CALNAME:rbb-Kalender
VERSION:2.0
METHOD:PUBLISH
CALSCALE:GREGORIAN
PRODID:rbb-CMS DAY
BEGIN:VEVENT
CLASS:PUBLIC
URL:http://www.rbb-online.de/content/rbb/rbb/zibb/guse/warum-wir-kein-blaues-essen-moegen.html
DTEND:20140303T192500
DTSTART:20140303T183000
UID:/content/rbb/rbb/zibb/guse/warum-wir-kein-blaues-essen-moegen
DTSTAMP:20140405T232900
DESCRIPTION:Der Mensch mag blau: Blauer Himmel, blaues Meer. Blau bedeutet Ruhe und Entspannung. Nur beim Essen mögen wir Menschen die Farbe nicht. Was ist denn auch wirklich blau im Supermarkt? Denken Sie mal nach, blaue Lebensmittel gibt es da eher selten. Warum? Das klärt jetzt Chris Guse, denn der weiß alles ...\n
SUMMARY:Warum mögen wir kein blaues Essen?
END:VEVENT
END:VCALENDAR
