BEGIN:VCALENDAR
X-WR-TIMEZONE:Europe/Berlin
X-WR-CALNAME:rbb-Kalender
VERSION:2.0
METHOD:PUBLISH
CALSCALE:GREGORIAN
PRODID:rbb-CMS DAY
BEGIN:VEVENT
CLASS:PUBLIC
URL:http://www.rbb-online.de/content/rbb/rbb/zibb/minitour/beitraege/Minitour_im_wedding.html
DTEND:20131101T193000
DTSTART:20131101T183000
UID:/content/rbb/rbb/zibb/minitour/beitraege/Minitour_im_wedding
DTSTAMP:20140405T230610
DESCRIPTION:Der Mini tourt heute durch den herbstlichen Wedding. Klingt wenig kuschlig? Nicht, wenn man sich für das richtige Fortbewegungsmittel entscheidet: Ab ins Bett! Ins rollende Bett von "Berlinhorizontal" nämlich.\n
SUMMARY:Der Wedding
END:VEVENT
END:VCALENDAR
