BEGIN:VCALENDAR
X-WR-TIMEZONE:Europe/Berlin
X-WR-CALNAME:rbb-Kalender
VERSION:2.0
METHOD:PUBLISH
CALSCALE:GREGORIAN
PRODID:rbb-CMS DAY
BEGIN:VEVENT
CLASS:PUBLIC
URL:http://www.rbb-online.de/content/rbb/rbb/zibb/minitour/beitraege/berlin_kreuzberg.html
DTEND:20130426T183000
DTSTART:20130426T183000
UID:/content/rbb/rbb/zibb/minitour/beitraege/berlin_kreuzberg
DTSTAMP:20140405T231614
DESCRIPTION:Der Mini ist unterwegs in Berlin-Kreuzberg. Seine Mission: die optimale Vorbereitung auf die bevorstehende Park-Saison. Einfach nur herumliegen das kann ja jeder!\n
SUMMARY:Berlin-Kreuzberg
END:VEVENT
END:VCALENDAR
