BEGIN:VCALENDAR
X-WR-TIMEZONE:Europe/Berlin
X-WR-CALNAME:rbb-Kalender
VERSION:2.0
METHOD:PUBLISH
CALSCALE:GREGORIAN
PRODID:rbb-CMS DAY
BEGIN:VEVENT
CLASS:PUBLIC
URL:http://www.rbb-online.de/content/rbb/rbb/zibb/minitour/beitraege/das-oderbruch-1.html
DTEND:20140314T193000
DTSTART:20140314T183000
UID:/content/rbb/rbb/zibb/minitour/beitraege/das-oderbruch-1
DTSTAMP:20140405T230527
DESCRIPTION:Der Mini reist dem Frühling entgegen, ins Oderbruch! Da springen auf dem Oderbruch-Hof von Sylvia Nickel in Alt-Tucheband gerade über 30 neugeborene Zicklein herum und freuen sich des Lebens.\n\n\n
SUMMARY:Das Oderbruch
END:VEVENT
END:VCALENDAR
