BEGIN:VCALENDAR
X-WR-TIMEZONE:Europe/Berlin
X-WR-CALNAME:rbb-Kalender
VERSION:2.0
METHOD:PUBLISH
CALSCALE:GREGORIAN
PRODID:rbb-CMS DAY
BEGIN:VEVENT
CLASS:PUBLIC
URL:http://www.rbb-online.de/content/rbb/rbb/zibb/minitour/beitraege/marathon.html
DTEND:20130927T192500
DTSTART:20130927T183000
UID:/content/rbb/rbb/zibb/minitour/beitraege/marathon
DTSTAMP:20140405T231048
DESCRIPTION:Am Sonntag findet der Berlin-Marathon zum 40. Mal statt, der rbb wird großflächig berichten. Susanne Tockan macht sich auf die Spur der Läufer: Sie beobachtet die Aufbauarbeiten am Brandenburger Tor, trifft Tagesschausprecher Thorsten Schröder beim Training und einen fast echten Schweinehund am Wilden Eber.\n
SUMMARY:Vorbereitungen für den Marathon
END:VEVENT
END:VCALENDAR
