BEGIN:VCALENDAR
X-WR-TIMEZONE:Europe/Berlin
X-WR-CALNAME:rbb-Kalender
VERSION:2.0
METHOD:PUBLISH
CALSCALE:GREGORIAN
PRODID:rbb-CMS DAY
BEGIN:VEVENT
CLASS:PUBLIC
URL:http://www.rbb-online.de/content/rbb/rbb/zibb/minitour/beitraege/mini-tour-paaren.html
DTEND:20140214T192500
DTSTART:20140214T183000
UID:/content/rbb/rbb/zibb/minitour/beitraege/mini-tour-paaren
DTSTAMP:20140405T230936
DESCRIPTION:Am Wochenende soll es frühlingshaft warm werden – genau der richtige Anlass, raus zu fahren aufs Land. Am Samstag ist auf dem "Märkischen Ausstellungs- und Freizeitgelände" in Paaren/Glien der Countrytag, bei dem sich jeder mal so richtig als Cowboy oder Cowgirl fühlen kann.\n
SUMMARY:Paaren-Glien
END:VEVENT
END:VCALENDAR
