BEGIN:VCALENDAR
X-WR-TIMEZONE:Europe/Berlin
X-WR-CALNAME:rbb-Kalender
VERSION:2.0
METHOD:PUBLISH
CALSCALE:GREGORIAN
PRODID:rbb-CMS DAY
BEGIN:VEVENT
CLASS:PUBLIC
URL:http://www.rbb-online.de/content/rbb/rbb/zibb/minitour/beitraege/minitour-baruth.html
DTEND:20131128T192500
DTSTART:20131128T183000
UID:/content/rbb/rbb/zibb/minitour/beitraege/minitour-baruth
DTSTAMP:20140405T231245
DESCRIPTION:Es gibt Neuigkeiten aus dem Museumsdorf Glashütte. Pünktlich vor der stimmungsvollen Bergmannsweihnacht am kommenden Wochenende hat der Denkmal-Bahnhof Klasdorf eröffnet.\n\n\n
SUMMARY:Minitour nach Baruth
END:VEVENT
END:VCALENDAR
