BEGIN:VCALENDAR
X-WR-TIMEZONE:Europe/Berlin
X-WR-CALNAME:rbb-Kalender
VERSION:2.0
METHOD:PUBLISH
CALSCALE:GREGORIAN
PRODID:rbb-CMS DAY
BEGIN:VEVENT
CLASS:PUBLIC
URL:http://www.rbb-online.de/content/rbb/rbb/zibb/minitour/beitraege/minitour_schorfheide.html
DTEND:20131010T192500
DTSTART:20131010T183000
UID:/content/rbb/rbb/zibb/minitour/beitraege/minitour_schorfheide
DTSTAMP:20140405T230820
DESCRIPTION:Die Mini-Reporterin macht einen tierischen Ausflug in die Schorfheide. Im Wildpark findet an diesem Wochenende traditionell das Hirschfest statt, mit Jagdhornbläsern und Geweihweitwurf.\n
SUMMARY:Schorfheide
END:VEVENT
END:VCALENDAR
