BEGIN:VCALENDAR
X-WR-TIMEZONE:Europe/Berlin
X-WR-CALNAME:rbb-Kalender
VERSION:2.0
METHOD:PUBLISH
CALSCALE:GREGORIAN
PRODID:rbb-CMS DAY
BEGIN:VEVENT
CLASS:PUBLIC
URL:http://www.rbb-online.de/content/rbb/rbb/zibb/minitour/beitraege/museumstour-potsdam-mittelmark.html
DTEND:20131024T192500
DTSTART:20131024T183000
UID:/content/rbb/rbb/zibb/minitour/beitraege/museumstour-potsdam-mittelmark
DTSTAMP:20140405T231330
DESCRIPTION:Am Samstag, 26.10.2013,  ist Potsdam- Mittelmark " Feuer und Flamme" für seine Museen. Über 70 Museen öffnen zwischen 13:00 und 20:00 Uhr ihre Türen. Unsere Mini-Reporterin stellt drei davon vor, außergewöhnliche Orte, die es ohne ehrenamtliches Engagement gar nicht geben würde.\n\n\n
SUMMARY:Museumstour durch Potsdam-Mittelmark
END:VEVENT
END:VCALENDAR
