BEGIN:VCALENDAR
X-WR-TIMEZONE:Europe/Berlin
X-WR-CALNAME:rbb-Kalender
VERSION:2.0
METHOD:PUBLISH
CALSCALE:GREGORIAN
PRODID:rbb-CMS DAY
BEGIN:VEVENT
CLASS:PUBLIC
URL:http://www.rbb-online.de/content/rbb/rbb/zibb/minitour/beitraege/pritzerbe.html
DTEND:20130823T192500
DTSTART:20130823T183000
UID:/content/rbb/rbb/zibb/minitour/beitraege/pritzerbe
DTSTAMP:20140405T230722
DESCRIPTION:Wir begrüßen drei Tage alte Straussenküken auf dem Erlebnishof Kützkow, die ab sofort  die Besucher erfreuen sollen.\n\n\n
SUMMARY:Pritzerbe
END:VEVENT
END:VCALENDAR
