BEGIN:VCALENDAR
X-WR-TIMEZONE:Europe/Berlin
X-WR-CALNAME:rbb-Kalender
VERSION:2.0
METHOD:PUBLISH
CALSCALE:GREGORIAN
PRODID:rbb-CMS DAY
BEGIN:VEVENT
CLASS:PUBLIC
URL:http://www.rbb-online.de/content/rbb/rbb/zibb/minitour/beitraege/rund_um_den_mueggelsee.html
DTEND:20130628T183000
DTSTART:20130628T183000
UID:/content/rbb/rbb/zibb/minitour/beitraege/rund_um_den_mueggelsee
DTSTAMP:20140405T231429
DESCRIPTION:Mit unserem Minitour-Reporter Helge Oelert geht es diesmal bergab! In den Müggelbergen befindet sich Berlins bekannteste Downhill-Strecke.
SUMMARY:Rund um den Müggelsee
END:VEVENT
END:VCALENDAR
