BEGIN:VCALENDAR
X-WR-TIMEZONE:Europe/Berlin
X-WR-CALNAME:rbb-Kalender
VERSION:2.0
METHOD:PUBLISH
CALSCALE:GREGORIAN
PRODID:rbb-CMS DAY
BEGIN:VEVENT
CLASS:PUBLIC
URL:http://www.rbb-online.de/content/rbb/rbb/zibb/minitour/beitraege/unterwegs-in-marienfelde.html
DTEND:20131205T192500
DTSTART:20131205T183000
UID:/content/rbb/rbb/zibb/minitour/beitraege/unterwegs-in-marienfelde
DTSTAMP:20140405T231550
DESCRIPTION:Viele Weihnachtsmärkte behaupten von sich, besonders idyllisch und familiär zu sein. Doch der Weihnachtsmarkt von Bauer Lehmann in Marienfelde ist es wirklich. Dies und mehr hat unsere Reporterin in der Minitour dieser Woche besucht.\n
SUMMARY:Unterwegs in Marienfelde
END:VEVENT
END:VCALENDAR
