BEGIN:VCALENDAR
X-WR-TIMEZONE:Europe/Berlin
X-WR-CALNAME:rbb-Kalender
VERSION:2.0
METHOD:PUBLISH
CALSCALE:GREGORIAN
PRODID:rbb-CMS DAY
BEGIN:VEVENT
CLASS:PUBLIC
URL:http://www.rbb-online.de/content/rbb/rbb/zibb/minitour/beitraege/unterwegs_in_golzow.html
DTEND:20130621T183000
DTSTART:20130621T183000
UID:/content/rbb/rbb/zibb/minitour/beitraege/unterwegs_in_golzow
DTSTAMP:20140405T231701
DESCRIPTION:Diesmal besucht die Mini-Tour die Stadt Golzow. Wir sind auf einer Krokodil-Farm, im Museum einer alten Brennerei und entspannen in einem Restaurant.
SUMMARY:Unterwegs in Golzow
END:VEVENT
END:VCALENDAR
