BEGIN:VCALENDAR
X-WR-TIMEZONE:Europe/Berlin
X-WR-CALNAME:rbb-Kalender
VERSION:2.0
METHOD:PUBLISH
CALSCALE:GREGORIAN
PRODID:rbb-CMS DAY
BEGIN:VEVENT
CLASS:PUBLIC
URL:http://www.rbb-online.de/content/rbb/rbb/zibb/service/auto/Sicherheit-durch-gute-Stossdaempfer.html
DTEND:20130911T192500
DTSTART:20130911T183000
UID:/content/rbb/rbb/zibb/service/auto/Sicherheit-durch-gute-Stossdaempfer
DTSTAMP:20140407T155639
DESCRIPTION:Die meisten Autofahrer glauben, dass Stoßdämpfer lediglich den Fahrkomfort erhöhen sollen, doch die ihre eigentliche Aufgabe ist viel wichtiger. Sie gewährleisten den dauerhaften Kontakt zur Straße und sind für die Fahrsicherheit elementar.\n\n\n
SUMMARY:Sicherheit durch gute Stoßdämpfer
END:VEVENT
END:VCALENDAR
