BEGIN:VCALENDAR
X-WR-TIMEZONE:Europe/Berlin
X-WR-CALNAME:rbb-Kalender
VERSION:2.0
METHOD:PUBLISH
CALSCALE:GREGORIAN
PRODID:rbb-CMS DAY
BEGIN:VEVENT
CLASS:PUBLIC
URL:http://www.rbb-online.de/content/rbb/rbb/zibb/service/auto/autopflege-im-winter.html
DTEND:20131119T192500
DTSTART:20131119T183000
UID:/content/rbb/rbb/zibb/service/auto/autopflege-im-winter
DTSTAMP:20140406T232122
DESCRIPTION:Bei Nässe, Frost und Streusalz brauchen Autos besonders viel und intensive Pflege. Denn der verkrustete und aggressive Schmutz muss regelmäßig abgewaschen werden. Wir klären, wie das am besten mit welchen Mitteln in der Waschstraße funktioniert und stellen den aktuellen ADAC - Waschanlagentest vor.\n
SUMMARY:Autopflege im Winter
END:VEVENT
END:VCALENDAR
