BEGIN:VCALENDAR
X-WR-TIMEZONE:Europe/Berlin
X-WR-CALNAME:rbb-Kalender
VERSION:2.0
METHOD:PUBLISH
CALSCALE:GREGORIAN
PRODID:rbb-CMS DAY
BEGIN:VEVENT
CLASS:PUBLIC
URL:http://www.rbb-online.de/content/rbb/rbb/zibb/service/auto/autotest-jaguar-xf-sportbreak.html
DTEND:20130903T192500
DTSTART:20130903T183000
UID:/content/rbb/rbb/zibb/service/auto/autotest-jaguar-xf-sportbreak
DTSTAMP:20140407T155656
DESCRIPTION:Wächst die Zahl der Familienmitglieder auf drei, ist oft ein Kombi die erste Wahl beim Autokauf. \n
SUMMARY:Jaguar XF Sportbreak
END:VEVENT
END:VCALENDAR
