BEGIN:VCALENDAR
X-WR-TIMEZONE:Europe/Berlin
X-WR-CALNAME:rbb-Kalender
VERSION:2.0
METHOD:PUBLISH
CALSCALE:GREGORIAN
PRODID:rbb-CMS DAY
BEGIN:VEVENT
CLASS:PUBLIC
URL:http://www.rbb-online.de/content/rbb/rbb/zibb/service/auto/dashcam-video.html
DTEND:20131031T192500
DTSTART:20131031T183000
UID:/content/rbb/rbb/zibb/service/auto/dashcam-video
DTSTAMP:20140407T155608
DESCRIPTION:Eine Dashcam ist eine Videokamera, die auf dem Armaturenbrett oder an der Windschutzscheibe von Autos angebracht ist und während der Fahrt fortwährend Bilder aufzeichnet.\n\n\n
SUMMARY:Dashcam - ich habe alles auf Video!
END:VEVENT
END:VCALENDAR
