BEGIN:VCALENDAR
X-WR-TIMEZONE:Europe/Berlin
X-WR-CALNAME:rbb-Kalender
VERSION:2.0
METHOD:PUBLISH
CALSCALE:GREGORIAN
PRODID:rbb-CMS DAY
BEGIN:VEVENT
CLASS:PUBLIC
URL:http://www.rbb-online.de/content/rbb/rbb/zibb/service/auto/gebrauchtwagencheck.html
DTEND:20140122T192500
DTSTART:20140122T183000
UID:/content/rbb/rbb/zibb/service/auto/gebrauchtwagencheck
DTSTAMP:20140406T223138
DESCRIPTION:Der Tachodreh ist inzwischen gesetzlich als Urkundenfälschung geächtet, und der Verkauf eines manipulierten Autos zu überhöhtem Preis gilt als Betrug.\n\n\n
SUMMARY:Gebrauchtwagencheck
END:VEVENT
END:VCALENDAR
