BEGIN:VCALENDAR
X-WR-TIMEZONE:Europe/Berlin
X-WR-CALNAME:rbb-Kalender
VERSION:2.0
METHOD:PUBLISH
CALSCALE:GREGORIAN
PRODID:rbb-CMS DAY
BEGIN:VEVENT
CLASS:PUBLIC
URL:http://www.rbb-online.de/content/rbb/rbb/zibb/service/auto/seat_leon_ecomotive.html
DTEND:20130409T183000
DTSTART:20130409T183000
UID:/content/rbb/rbb/zibb/service/auto/seat_leon_ecomotive
DTSTAMP:20140407T155507
DESCRIPTION:Betrachtet man Technik und Design des neuen Seat Leon, ist die Nähe zur Konzernmutter VW unverkennbar. Doch wie bewährt sich der Wagen in der besonders heiß umkämpften Kompaktwagenklasse? Unser Autotest bringt es ans Licht.\n
SUMMARY:Seat Leon Ecomotive
END:VEVENT
END:VCALENDAR
