BEGIN:VCALENDAR
X-WR-TIMEZONE:Europe/Berlin
X-WR-CALNAME:rbb-Kalender
VERSION:2.0
METHOD:PUBLISH
CALSCALE:GREGORIAN
PRODID:rbb-CMS DAY
BEGIN:VEVENT
CLASS:PUBLIC
URL:http://www.rbb-online.de/content/rbb/rbb/zibb/service/auto/service_auto_fiat.html
DTEND:20140128T192500
DTSTART:20140128T183000
UID:/content/rbb/rbb/zibb/service/auto/service_auto_fiat
DTSTAMP:20140406T223147
DESCRIPTION:Die Fiat 500-Familie wächst, und jedes neue Mitglied wird größer. Nach der Wiederauflage des Retroautos, dem Fiat 500, folgte das witzig-spritzige Cabrio, dann die Langversion 500L und nun der jüngste Sproß, der 500L Living.\n\n\n
SUMMARY:Autotest Fiat 500L Living
END:VEVENT
END:VCALENDAR
