BEGIN:VCALENDAR
X-WR-TIMEZONE:Europe/Berlin
X-WR-CALNAME:rbb-Kalender
VERSION:2.0
METHOD:PUBLISH
CALSCALE:GREGORIAN
PRODID:rbb-CMS DAY
BEGIN:VEVENT
CLASS:PUBLIC
URL:http://www.rbb-online.de/content/rbb/rbb/zibb/service/auto/skoda-autotest.html
DTEND:20131112T192500
DTSTART:20131112T183000
UID:/content/rbb/rbb/zibb/service/auto/skoda-autotest
DTSTAMP:20140406T040609
DESCRIPTION:In den Zeiten steigender Benzinpreise werden Alternativen immer interessanter. Der VW-Konzern bietet in dem Kleinstwagen Skoda citigo eine Erdgasvariante an. Der zibb-Autotester macht eine Nutzenrechnung auf und berichtet über das Fahrgefühl in dem erdgasbetriebenen Kleinstwagen.\n\n \n\n \n
SUMMARY:Skoda Citigo Erdgas
END:VEVENT
END:VCALENDAR
