BEGIN:VCALENDAR
X-WR-TIMEZONE:Europe/Berlin
X-WR-CALNAME:rbb-Kalender
VERSION:2.0
METHOD:PUBLISH
CALSCALE:GREGORIAN
PRODID:rbb-CMS DAY
BEGIN:VEVENT
CLASS:PUBLIC
URL:http://www.rbb-online.de/content/rbb/rbb/zibb/service/auto/toyota-auris-hybrid.html
DTEND:20140121T192500
DTSTART:20140121T183000
UID:/content/rbb/rbb/zibb/service/auto/toyota-auris-hybrid
DTSTAMP:20140406T223111
DESCRIPTION:Toyota gilt als Erfinder der Hybridtechnik, dem Kraftstoff sparenden Zusammenspiel von Verbrennungs- und Elektromotor. Nun bieten die erfolgreichen Japaner mit dem Auris Touring Sports Hybrid ein waschechtes Vollhybrid-Auto an. \n
SUMMARY:Toyota Auris Touring Sports Hybrid
END:VEVENT
END:VCALENDAR
