BEGIN:VCALENDAR
X-WR-TIMEZONE:Europe/Berlin
X-WR-CALNAME:rbb-Kalender
VERSION:2.0
METHOD:PUBLISH
CALSCALE:GREGORIAN
PRODID:rbb-CMS DAY
BEGIN:VEVENT
CLASS:PUBLIC
URL:http://www.rbb-online.de/content/rbb/rbb/zibb/service/auto/wenn_das_knoellchen.html
DTEND:20130624T183000
DTSTART:20130624T183000
UID:/content/rbb/rbb/zibb/service/auto/wenn_das_knoellchen
DTSTAMP:20140407T155453
DESCRIPTION:Falsch parken wird jetzt richtig teuer: So manches Knöllchen kostet seit dem 1. April doppelt so viel wie vorher. Über 1.300 Tatbestände allein zum Falschparken kennt die Straßenverkehrsordnung. Was erlaubt und was nicht, zibb klärt auf.
SUMMARY:Wenn das Knöllchen teuer wird
END:VEVENT
END:VCALENDAR
