BEGIN:VCALENDAR
X-WR-TIMEZONE:Europe/Berlin
X-WR-CALNAME:rbb-Kalender
VERSION:2.0
METHOD:PUBLISH
CALSCALE:GREGORIAN
PRODID:rbb-CMS DAY
BEGIN:VEVENT
CLASS:PUBLIC
URL:http://www.rbb-online.de/content/rbb/rbb/zibb/service/familie/Service.html
DTEND:20130506T183000
DTSTART:20130506T183000
UID:/content/rbb/rbb/zibb/service/familie/Service
DTSTAMP:20140407T154835
DESCRIPTION:Namen verraten etwas über die geografische Herkunft, die Berufe oder Eigenschaften unserer Vorfahren und sind unsere ganz aktuelle "Visitenkarte". Den einzigen Lehrstuhl für Onomastik (Namenkunde) gab es an der Universität Leipzig, Professor Dr. Jürgen Udolph besetzte ihn bis zu seiner Pensionierung 2008.
SUMMARY:Was Namen verraten
END:VEVENT
END:VCALENDAR
