BEGIN:VCALENDAR
X-WR-TIMEZONE:Europe/Berlin
X-WR-CALNAME:rbb-Kalender
VERSION:2.0
METHOD:PUBLISH
CALSCALE:GREGORIAN
PRODID:rbb-CMS DAY
BEGIN:VEVENT
CLASS:PUBLIC
URL:http://www.rbb-online.de/content/rbb/rbb/zibb/service/familie/aupair-oma.html
DTEND:20140108T192500
DTSTART:20140108T183000
UID:/content/rbb/rbb/zibb/service/familie/aupair-oma
DTSTAMP:20140406T224027
DESCRIPTION:Wenn die eigenen Kinder aus dem Haus sind und das Arbeitsleben zu Ende ist, stellt sich für viele Renterinnen die Frage: Was nun? Ein Auslandsaufenthalt ist eine gute Gelegenheit, um neue Erfahrungen zu machen, Kontakte zu schließen, Impulse zu bekommen.\n
SUMMARY:Oma wird Au-Pair-Mädchen 
END:VEVENT
END:VCALENDAR
