BEGIN:VCALENDAR
X-WR-TIMEZONE:Europe/Berlin
X-WR-CALNAME:rbb-Kalender
VERSION:2.0
METHOD:PUBLISH
CALSCALE:GREGORIAN
PRODID:rbb-CMS DAY
BEGIN:VEVENT
CLASS:PUBLIC
URL:http://www.rbb-online.de/content/rbb/rbb/zibb/service/familie/buecher-zum-fest.html
DTEND:20131213T192500
DTSTART:20131213T183000
UID:/content/rbb/rbb/zibb/service/familie/buecher-zum-fest
DTSTAMP:20140406T232623
DESCRIPTION:Bücher zählen nach wie vor zu den beliebtesten Weihnachtsgeschenken. Doch welches nehmen, damit es nicht nur nach einem Verlegenheitsgeschenk aussieht? Wir haben ein paar Kaufempfehlungen für die ganze Familie, von märchenhaft bis gruselig-spannend.\n
SUMMARY:Bücher zum Fest
END:VEVENT
END:VCALENDAR
