BEGIN:VCALENDAR
X-WR-TIMEZONE:Europe/Berlin
X-WR-CALNAME:rbb-Kalender
VERSION:2.0
METHOD:PUBLISH
CALSCALE:GREGORIAN
PRODID:rbb-CMS DAY
BEGIN:VEVENT
CLASS:PUBLIC
URL:http://www.rbb-online.de/content/rbb/rbb/zibb/service/familie/die_richtige_schule.html
DTEND:20130409T183000
DTSTART:20130409T183000
UID:/content/rbb/rbb/zibb/service/familie/die_richtige_schule
DTSTAMP:20140406T222645
DESCRIPTION:Jedes Jahr bangen Tausende Eltern, ob sie für ihr Kind eine Grundschule finden, an der es sich wohl fühlt und eine gute Bildung bekommt. Sollte man bei einer Ablehnung Widerspruch einlegen? Rechtsanwalt Olaf Werner hat einige Tipps.\n
SUMMARY:Die richtige Schule finden
END:VEVENT
END:VCALENDAR
