BEGIN:VCALENDAR
X-WR-TIMEZONE:Europe/Berlin
X-WR-CALNAME:rbb-Kalender
VERSION:2.0
METHOD:PUBLISH
CALSCALE:GREGORIAN
PRODID:rbb-CMS DAY
BEGIN:VEVENT
CLASS:PUBLIC
URL:http://www.rbb-online.de/content/rbb/rbb/zibb/service/familie/exoten-im-wohnzimmer.html
DTEND:20140115T192500
DTSTART:20140115T183000
UID:/content/rbb/rbb/zibb/service/familie/exoten-im-wohnzimmer
DTSTAMP:20140406T223952
DESCRIPTION:Die Haltung von Exoten, wie Gift- oder Riesenschlangen, Spinnen oder Amphibien, erfreut sich wachsender Beliebtheit. In den Tierheimen landen neben Hund und Katze immer häufiger auch Boa Constrictor, Vogelspinne und Gecko. \n\n\n
SUMMARY:Exoten im Wohnzimmer
END:VEVENT
END:VCALENDAR
