BEGIN:VCALENDAR
X-WR-TIMEZONE:Europe/Berlin
X-WR-CALNAME:rbb-Kalender
VERSION:2.0
METHOD:PUBLISH
CALSCALE:GREGORIAN
PRODID:rbb-CMS DAY
BEGIN:VEVENT
CLASS:PUBLIC
URL:http://www.rbb-online.de/content/rbb/rbb/zibb/service/familie/gartenduenger.html
DTEND:20130507T183000
DTSTART:20130507T183000
UID:/content/rbb/rbb/zibb/service/familie/gartenduenger
DTSTAMP:20140407T154849
DESCRIPTION:Gartendünger sind oft erheblich mit Schwermetallen wie Uran und Cadmium belastet. Dieses Resümee zieht ÖKOTEST, das 20 Universaldünger ins Labor geschickt hat. Nur ein Drittel der Dünger hält im Test, was es verspricht.\n
SUMMARY:Gartendünger
END:VEVENT
END:VCALENDAR
