BEGIN:VCALENDAR
X-WR-TIMEZONE:Europe/Berlin
X-WR-CALNAME:rbb-Kalender
VERSION:2.0
METHOD:PUBLISH
CALSCALE:GREGORIAN
PRODID:rbb-CMS DAY
BEGIN:VEVENT
CLASS:PUBLIC
URL:http://www.rbb-online.de/content/rbb/rbb/zibb/service/familie/haustiere.html
DTEND:20140312T192500
DTSTART:20140312T183000
UID:/content/rbb/rbb/zibb/service/familie/haustiere
DTSTAMP:20140406T215137
DESCRIPTION:"Mama, ich will einen Hund!" Solche Sätze hören Eltern oft, doch das kann schnell zum Albtraum werden: Etwa wenn Kinder sich das "falsche" Tier auswählen, schnell das Interesse verlieren und am Ende die Pflege an die Eltern "abtreten".\n
SUMMARY:Wenn sich Kinder Haustiere wünschen … 
END:VEVENT
END:VCALENDAR
