BEGIN:VCALENDAR
X-WR-TIMEZONE:Europe/Berlin
X-WR-CALNAME:rbb-Kalender
VERSION:2.0
METHOD:PUBLISH
CALSCALE:GREGORIAN
PRODID:rbb-CMS DAY
BEGIN:VEVENT
CLASS:PUBLIC
URL:http://www.rbb-online.de/content/rbb/rbb/zibb/service/familie/helfen_im_ausland.html
DTEND:20130423T183000
DTSTART:20130423T183000
UID:/content/rbb/rbb/zibb/service/familie/helfen_im_ausland
DTSTAMP:20140407T154623
DESCRIPTION:Das Programm "Weltwärts" bietet jungen Menschen die Möglichkeit, ein freiwilliges soziales Jahr im Ausland zu absolvieren. Nach erfolgreicher Bewerbung leisten Teilnehmer einen Freiwilligendienst in Entwicklungsländern.\n
SUMMARY:Helfen im Ausland
END:VEVENT
END:VCALENDAR
