BEGIN:VCALENDAR
X-WR-TIMEZONE:Europe/Berlin
X-WR-CALNAME:rbb-Kalender
VERSION:2.0
METHOD:PUBLISH
CALSCALE:GREGORIAN
PRODID:rbb-CMS DAY
BEGIN:VEVENT
CLASS:PUBLIC
URL:http://www.rbb-online.de/content/rbb/rbb/zibb/service/familie/kinderfahrradhelme.html
DTEND:20130605T183000
DTSTART:20130605T183000
UID:/content/rbb/rbb/zibb/service/familie/kinderfahrradhelme
DTSTAMP:20140407T161003
DESCRIPTION:In Deutschland verunglücken jedes Jahr über 77.000 Radfahrer. Unfallmediziner sind sich sicher: Ein Helm kann vor schweren Kopfverletzungen schützen. Doch welcher ist der beste und worauf sollte man beim Kauf achten?
SUMMARY:Kinderfahrradhelme im Test
END:VEVENT
END:VCALENDAR
