BEGIN:VCALENDAR
X-WR-TIMEZONE:Europe/Berlin
X-WR-CALNAME:rbb-Kalender
VERSION:2.0
METHOD:PUBLISH
CALSCALE:GREGORIAN
PRODID:rbb-CMS DAY
BEGIN:VEVENT
CLASS:PUBLIC
URL:http://www.rbb-online.de/content/rbb/rbb/zibb/service/familie/kindersitze_im_test.html
DTEND:20130617T183000
DTSTART:20130617T183000
UID:/content/rbb/rbb/zibb/service/familie/kindersitze_im_test
DTSTAMP:20140407T160949
DESCRIPTION:Mit dem Ferienstart beginnt auch wieder die Reisezeit. Wer mit Kindern unterwegs ist, sollte auf sichere Kindersitze nicht verzichten. Je nach Gewicht und Größe der Kinder kommen unterschiedlichen Ausführungen in Betracht.\n
SUMMARY:Kindersitze im Test
END:VEVENT
END:VCALENDAR
