BEGIN:VCALENDAR
X-WR-TIMEZONE:Europe/Berlin
X-WR-CALNAME:rbb-Kalender
VERSION:2.0
METHOD:PUBLISH
CALSCALE:GREGORIAN
PRODID:rbb-CMS DAY
BEGIN:VEVENT
CLASS:PUBLIC
URL:http://www.rbb-online.de/content/rbb/rbb/zibb/service/familie/lange_nacht_der_stadtnatur.html
DTEND:20130613T183000
DTSTART:20130613T183000
UID:/content/rbb/rbb/zibb/service/familie/lange_nacht_der_stadtnatur
DTSTAMP:20140407T160929
DESCRIPTION:Am Wochenende kann Berlins wild-romantische Seite erkundet werden. Beim Langen Tag der Stadtnatur. Und das schon zum siebten Mal. Organisiert von der Stiftung Naturschutz.
SUMMARY:Langer Tag der Stadtnatur
END:VEVENT
END:VCALENDAR
