BEGIN:VCALENDAR
X-WR-TIMEZONE:Europe/Berlin
X-WR-CALNAME:rbb-Kalender
VERSION:2.0
METHOD:PUBLISH
CALSCALE:GREGORIAN
PRODID:rbb-CMS DAY
BEGIN:VEVENT
CLASS:PUBLIC
URL:http://www.rbb-online.de/content/rbb/rbb/zibb/service/familie/milder-winter-verwirrte-tiere.html
DTEND:20140306T192500
DTSTART:20140306T183000
UID:/content/rbb/rbb/zibb/service/familie/milder-winter-verwirrte-tiere
DTSTAMP:20140406T222654
DESCRIPTION:Die ersten Zugvögel kehren zurück, Kröten werden schon gesichtet, aber das Eichhörnchen sammelt noch fleißig Nüsse für eine kalte Hungerperiode: Der milde Winter bringt den Rhythmus der Tiere durcheinander und lockt sie aus dem Winterschlaf. Der Winter, der ein Frühling ist: Vor- und Nachteile für die Tierwelt.\n\n\n
SUMMARY:Milder Winter - verwirrte Tiere
END:VEVENT
END:VCALENDAR
